BEGIN:VCALENDAR
VERSION:2.0
PRODID:-//The Nevada National Board Professional Learning Institute - ECPv5.9.1//NONSGML v1.0//EN
CALSCALE:GREGORIAN
METHOD:PUBLISH
X-WR-CALNAME:The Nevada National Board Professional Learning Institute
X-ORIGINAL-URL:http://www.nationalboardinstitute.com
X-WR-CALDESC:Events for The Nevada National Board Professional Learning Institute
BEGIN:VTIMEZONE
TZID:America/Los_Angeles
BEGIN:DAYLIGHT
TZOFFSETFROM:-0800
TZOFFSETTO:-0700
TZNAME:PDT
DTSTART:20180311T100000
END:DAYLIGHT
BEGIN:STANDARD
TZOFFSETFROM:-0700
TZOFFSETTO:-0800
TZNAME:PST
DTSTART:20181104T090000
END:STANDARD
END:VTIMEZONE
BEGIN:VEVENT
DTSTART;TZID=America/Los_Angeles:20180222T163000
DTEND;TZID=America/Los_Angeles:20180222T180000
DTSTAMP:20260425T033401
CREATED:20171206T002243Z
LAST-MODIFIED:20171208T051401Z
UID:805-1519317000-1519322400@www.nationalboardinstitute.com
SUMMARY:RPDP National Board Writing Workshop 3: Assessment
DESCRIPTION:Series Purpose: To assist National Board candidates in the thinking and writing involved in completing Components 2 – 4 of the National Board Certification process. This series of 2-hour workshops will address the thinking\, analyzing\, reflecting\, and writing demands of Components 2 – 4. Instruction will be a blend of lecture\, online\, whole class and small group discussion\, and peer writing review and response. A writing workshop approach will be taken\, so participants will read and respond to colleagues writing and instructional videos. Optional: Participants may earn 4 CUs if they attend all four workshops and complete an additional four hours of homework online (12 hours). \nWorkshop 3: Assessment – The third workshop will focus on summative and formative assessment\, data collection\, and analysis. \nSeries Outcomes: Through direct instruction\, discussion\, and collaboration with colleagues\, National Board Candidates will \n\nUnderstand and apply the thinking and writing involved in the National Board certification process.\nDevelop and refine descriptive\, analytic\, and reflective writing skills.\nApply\, refine\, analyze\, and reflect on formative and summative assessment practices.\nWork in collaborative response groups to revise and edit Components 2 – 4.
URL:http://www.nationalboardinstitute.com/event/805/
LOCATION:Nevada State Education Association\, 3511 E. Harmon Ave.\, Las Vegas\, NV\, 89121\, United States
CATEGORIES:Component 2,Component 3,Component 4
ATTACH;FMTTYPE=image/jpeg:http://www.nationalboardinstitute.com/wp-content/uploads/2017/08/teacher-flatlay_4460x4460-2.jpg
END:VEVENT
END:VCALENDAR