BEGIN:VCALENDAR
VERSION:2.0
PRODID:-//The Nevada National Board Professional Learning Institute - ECPv5.9.1//NONSGML v1.0//EN
CALSCALE:GREGORIAN
METHOD:PUBLISH
X-WR-CALNAME:The Nevada National Board Professional Learning Institute
X-ORIGINAL-URL:http://www.nationalboardinstitute.com
X-WR-CALDESC:Events for The Nevada National Board Professional Learning Institute
BEGIN:VTIMEZONE
TZID:America/Los_Angeles
BEGIN:DAYLIGHT
TZOFFSETFROM:-0800
TZOFFSETTO:-0700
TZNAME:PDT
DTSTART:20220313T100000
END:DAYLIGHT
BEGIN:STANDARD
TZOFFSETFROM:-0700
TZOFFSETTO:-0800
TZNAME:PST
DTSTART:20221106T090000
END:STANDARD
END:VTIMEZONE
BEGIN:VEVENT
DTSTART;TZID=America/Los_Angeles:20220301T163000
DTEND;TZID=America/Los_Angeles:20220301T190000
DTSTAMP:20260424T073209
CREATED:20211012T042342Z
LAST-MODIFIED:20211012T042342Z
UID:1589-1646152200-1646161200@www.nationalboardinstitute.com
SUMMARY:Accomplished Teaching Body of Knowledge Seminar Series\, Final Session
DESCRIPTION:
URL:http://www.nationalboardinstitute.com/event/accomplished-teaching-body-of-knowledge-seminar-series-final-session/
LOCATION:ZOOM
CATEGORIES:Board Certified,Component 1,Component 2,Component 3,Component 4,General Professional Development,Leader,Novice,Pre-Service,Professional,Teaching Continuum Support
ORGANIZER;CN="Nevada%20National%20Board%20Professional%20Learning%20Network":MAILTO:info@nationalboardinstitute.com
END:VEVENT
END:VCALENDAR