BEGIN:VCALENDAR
VERSION:2.0
PRODID:-//The Nevada National Board Professional Learning Institute - ECPv5.9.1//NONSGML v1.0//EN
CALSCALE:GREGORIAN
METHOD:PUBLISH
X-WR-CALNAME:The Nevada National Board Professional Learning Institute
X-ORIGINAL-URL:http://www.nationalboardinstitute.com
X-WR-CALDESC:Events for The Nevada National Board Professional Learning Institute
BEGIN:VTIMEZONE
TZID:America/Los_Angeles
BEGIN:DAYLIGHT
TZOFFSETFROM:-0800
TZOFFSETTO:-0700
TZNAME:PDT
DTSTART:20190310T100000
END:DAYLIGHT
BEGIN:STANDARD
TZOFFSETFROM:-0700
TZOFFSETTO:-0800
TZNAME:PST
DTSTART:20191103T090000
END:STANDARD
END:VTIMEZONE
BEGIN:VEVENT
DTSTART;TZID=America/Los_Angeles:20190427T083000
DTEND;TZID=America/Los_Angeles:20190427T123000
DTSTAMP:20260425T063501
CREATED:20180830T202504Z
LAST-MODIFIED:20180830T202509Z
UID:877-1556353800-1556368200@www.nationalboardinstitute.com
SUMMARY:Component 1: Seminar 4
DESCRIPTION:
URL:http://www.nationalboardinstitute.com/event/component-1-seminar-4/
LOCATION:Public Education Foundation\, 4350 South Maryland Parkway\, Las Vegas\, NV\, 89119\, United States
ORGANIZER;CN="Nevada%20National%20Board%20Professional%20Learning%20Institute":MAILTO:info@nationalboardinstitute.com
END:VEVENT
END:VCALENDAR