BEGIN:VCALENDAR
VERSION:2.0
PRODID:-//The Nevada National Board Professional Learning Institute - ECPv5.9.1//NONSGML v1.0//EN
CALSCALE:GREGORIAN
METHOD:PUBLISH
X-WR-CALNAME:The Nevada National Board Professional Learning Institute
X-ORIGINAL-URL:http://www.nationalboardinstitute.com
X-WR-CALDESC:Events for The Nevada National Board Professional Learning Institute
BEGIN:VTIMEZONE
TZID:America/Los_Angeles
BEGIN:DAYLIGHT
TZOFFSETFROM:-0800
TZOFFSETTO:-0700
TZNAME:PDT
DTSTART:20180311T100000
END:DAYLIGHT
BEGIN:STANDARD
TZOFFSETFROM:-0700
TZOFFSETTO:-0800
TZNAME:PST
DTSTART:20181104T090000
END:STANDARD
END:VTIMEZONE
BEGIN:VEVENT
DTSTART;TZID=America/Los_Angeles:20180929T083000
DTEND;TZID=America/Los_Angeles:20180929T123000
DTSTAMP:20260425T060142
CREATED:20180830T202245Z
LAST-MODIFIED:20180830T202301Z
UID:870-1538209800-1538224200@www.nationalboardinstitute.com
SUMMARY:Component 1: Seminar 1
DESCRIPTION:
URL:http://www.nationalboardinstitute.com/event/component-1/
LOCATION:Public Education Foundation\, 4350 South Maryland Parkway\, Las Vegas\, NV\, 89119\, United States
ORGANIZER;CN="Nevada%20National%20Board%20Professional%20Learning%20Institute":MAILTO:info@nationalboardinstitute.com
END:VEVENT
END:VCALENDAR