BEGIN:VCALENDAR
VERSION:2.0
PRODID:-//The Nevada National Board Professional Learning Institute - ECPv5.9.1//NONSGML v1.0//EN
CALSCALE:GREGORIAN
METHOD:PUBLISH
X-WR-CALNAME:The Nevada National Board Professional Learning Institute
X-ORIGINAL-URL:http://www.nationalboardinstitute.com
X-WR-CALDESC:Events for The Nevada National Board Professional Learning Institute
BEGIN:VTIMEZONE
TZID:America/Los_Angeles
BEGIN:DAYLIGHT
TZOFFSETFROM:-0800
TZOFFSETTO:-0700
TZNAME:PDT
DTSTART:20190310T100000
END:DAYLIGHT
BEGIN:STANDARD
TZOFFSETFROM:-0700
TZOFFSETTO:-0800
TZNAME:PST
DTSTART:20191103T090000
END:STANDARD
END:VTIMEZONE
BEGIN:VEVENT
DTSTART;TZID=America/Los_Angeles:20191214T083000
DTEND;TZID=America/Los_Angeles:20191214T123000
DTSTAMP:20260424T201925
CREATED:20190904T034402Z
LAST-MODIFIED:20191108T171739Z
UID:1276-1576312200-1576326600@www.nationalboardinstitute.com
SUMMARY:Component 2\, Learning Seminar 3
DESCRIPTION:
URL:http://www.nationalboardinstitute.com/event/component-2-learning-seminar-3/
LOCATION:Lewis E. Rowe Elementary School\, 4338 S. Bruce Street\, Las Vegas\, NV\, 89119\, United States
CATEGORIES:Component 2
ORGANIZER;CN="Nevada%20National%20Board%20Professional%20Learning%20Institute":MAILTO:info@nationalboardinstitute.com
END:VEVENT
END:VCALENDAR