BEGIN:VCALENDAR
VERSION:2.0
PRODID:-//The Nevada National Board Professional Learning Institute - ECPv5.9.1//NONSGML v1.0//EN
CALSCALE:GREGORIAN
METHOD:PUBLISH
X-WR-CALNAME:The Nevada National Board Professional Learning Institute
X-ORIGINAL-URL:http://www.nationalboardinstitute.com
X-WR-CALDESC:Events for The Nevada National Board Professional Learning Institute
BEGIN:VTIMEZONE
TZID:America/Los_Angeles
BEGIN:DAYLIGHT
TZOFFSETFROM:-0800
TZOFFSETTO:-0700
TZNAME:PDT
DTSTART:20180311T100000
END:DAYLIGHT
BEGIN:STANDARD
TZOFFSETFROM:-0700
TZOFFSETTO:-0800
TZNAME:PST
DTSTART:20181104T090000
END:STANDARD
END:VTIMEZONE
BEGIN:VEVENT
DTSTART;TZID=America/Los_Angeles:20181011T163000
DTEND;TZID=America/Los_Angeles:20181011T193000
DTSTAMP:20260425T141327
CREATED:20181004T190407Z
LAST-MODIFIED:20181004T190407Z
UID:1101-1539275400-1539286200@www.nationalboardinstitute.com
SUMMARY:Connecting Accomplished Teaching with the NEPF
DESCRIPTION:Learn how to connect principles of accomplished teaching with the Nevada Educator Performance Framework (NEPF) through five learning seminars of shared learning and collaboration. One Credit Unit available (5CUs).
URL:http://www.nationalboardinstitute.com/event/connecting-accomplished-teaching-with-the-nepf/
LOCATION:Nevada State Education Association\, 3511 E. Harmon Ave.\, Las Vegas\, NV\, 89121\, United States
END:VEVENT
END:VCALENDAR