BEGIN:VCALENDAR
VERSION:2.0
PRODID:-//The Nevada National Board Professional Learning Institute - ECPv5.9.1//NONSGML v1.0//EN
CALSCALE:GREGORIAN
METHOD:PUBLISH
X-WR-CALNAME:The Nevada National Board Professional Learning Institute
X-ORIGINAL-URL:http://www.nationalboardinstitute.com
X-WR-CALDESC:Events for The Nevada National Board Professional Learning Institute
BEGIN:VTIMEZONE
TZID:America/Los_Angeles
BEGIN:DAYLIGHT
TZOFFSETFROM:-0800
TZOFFSETTO:-0700
TZNAME:PDT
DTSTART:20180311T100000
END:DAYLIGHT
BEGIN:STANDARD
TZOFFSETFROM:-0700
TZOFFSETTO:-0800
TZNAME:PST
DTSTART:20181104T090000
END:STANDARD
END:VTIMEZONE
BEGIN:VEVENT
DTSTART;TZID=America/Los_Angeles:20180120T080000
DTEND;TZID=America/Los_Angeles:20180120T120000
DTSTAMP:20260425T032813
CREATED:20170922T140529Z
LAST-MODIFIED:20171208T051225Z
UID:729-1516435200-1516449600@www.nationalboardinstitute.com
SUMMARY:National Board Component Four Learning Seminar
DESCRIPTION:Component 4 Seminar \nLead: Carrie Davis \nCo-Lead: Syndi Thune
URL:http://www.nationalboardinstitute.com/event/national-board-component-four-learning-seminar-2/
LOCATION:Public Education Foundation\, 4350 South Maryland Parkway\, Las Vegas\, NV\, 89119\, United States
CATEGORIES:Component 4
ATTACH;FMTTYPE=image/png:http://www.nationalboardinstitute.com/wp-content/uploads/2017/09/Screen-Shot-2017-09-22-at-9.57.49-AM.png
ORGANIZER;CN="Nevada%20National%20Board%20Professional%20Learning%20Institute":MAILTO:info@nationalboardinstitute.com
END:VEVENT
END:VCALENDAR