BEGIN:VCALENDAR
VERSION:2.0
PRODID:-//The Nevada National Board Professional Learning Institute - ECPv5.9.1//NONSGML v1.0//EN
CALSCALE:GREGORIAN
METHOD:PUBLISH
X-WR-CALNAME:The Nevada National Board Professional Learning Institute
X-ORIGINAL-URL:http://www.nationalboardinstitute.com
X-WR-CALDESC:Events for The Nevada National Board Professional Learning Institute
BEGIN:VTIMEZONE
TZID:America/Los_Angeles
BEGIN:DAYLIGHT
TZOFFSETFROM:-0800
TZOFFSETTO:-0700
TZNAME:PDT
DTSTART:20170312T100000
END:DAYLIGHT
BEGIN:STANDARD
TZOFFSETFROM:-0700
TZOFFSETTO:-0800
TZNAME:PST
DTSTART:20171105T090000
END:STANDARD
END:VTIMEZONE
BEGIN:VEVENT
DTSTART;TZID=America/Los_Angeles:20170830T163000
DTEND;TZID=America/Los_Angeles:20170830T180000
DTSTAMP:20260424T172504
CREATED:20170829T161223Z
LAST-MODIFIED:20170829T170819Z
UID:412-1504110600-1504116000@www.nationalboardinstitute.com
SUMMARY:National Board Informational Meeting
DESCRIPTION:Register to attend the National Board Certification informational meeting and learn how to earn up to $950 per year (2017-2018; 2018-2019) towards National Board Certification fees. The Nevada Great Teaching and Leading Fund (GTLF) grant provides opportunity for teachers to receive financial assistance in pursuing National Board certification between 2017-2019. \nEmail registration interest to info@nationalboardinstitute.com.
URL:http://www.nationalboardinstitute.com/event/national-board-informational-meeting/
CATEGORIES:General Professional Development,Teaching Continuum Support
ATTACH;FMTTYPE=image/jpeg:http://www.nationalboardinstitute.com/wp-content/uploads/2017/08/public-school-building_4460x4460.jpg
ORGANIZER;CN="Nevada%20National%20Board%20Professional%20Learning%20Institute":MAILTO:info@nationalboardinstitute.com
END:VEVENT
END:VCALENDAR