BEGIN:VCALENDAR
VERSION:2.0
PRODID:-//The Nevada National Board Professional Learning Institute - ECPv5.9.1//NONSGML v1.0//EN
CALSCALE:GREGORIAN
METHOD:PUBLISH
X-WR-CALNAME:The Nevada National Board Professional Learning Institute
X-ORIGINAL-URL:http://www.nationalboardinstitute.com
X-WR-CALDESC:Events for The Nevada National Board Professional Learning Institute
BEGIN:VTIMEZONE
TZID:America/Los_Angeles
BEGIN:DAYLIGHT
TZOFFSETFROM:-0800
TZOFFSETTO:-0700
TZNAME:PDT
DTSTART:20180311T100000
END:DAYLIGHT
BEGIN:STANDARD
TZOFFSETFROM:-0700
TZOFFSETTO:-0800
TZNAME:PST
DTSTART:20181104T090000
END:STANDARD
END:VTIMEZONE
BEGIN:VEVENT
DTSTART;TZID=America/Los_Angeles:20180519T083000
DTEND;TZID=America/Los_Angeles:20180519T153000
DTSTAMP:20260424T155732
CREATED:20180504T141941Z
LAST-MODIFIED:20180504T161643Z
UID:841-1526718600-1526743800@www.nationalboardinstitute.com
SUMMARY:Principles of Accomplished Teaching Conference
DESCRIPTION:Please join us at our inaugural Principles of Accomplished Teaching Conference where we will celebrate education\, educator leadership\, and National Board Certification! \nThe keynote speaker for this event will be Dr. Peggy Brookins\, NBCT\, and CEO and President of National Board for Professional Teaching Standards. \nSpace is limited. RSVP is requested. Registration via email link. \nEvent space is being graciously donated by Rob Roy’s Innevation\, powered by Switch. 
URL:http://www.nationalboardinstitute.com/event/nevada-national-board-nt3-principles-accomplished-teaching-conference/
LOCATION:Rob Roy’s Innevation\, powered by Switch\, 6795 S Edmond Street\, Las Vegas\, NV\, 89118\, United States
CATEGORIES:Board Certified,General Professional Development,Teaching Continuum Support
ORGANIZER;CN="Nevada%20National%20Board%20Professional%20Learning%20Institute":MAILTO:info@nationalboardinstitute.com
END:VEVENT
END:VCALENDAR